BEGIN:VCALENDAR
VERSION:2.0
PRODID:icalendar-ruby
CALSCALE:GREGORIAN
BEGIN:VEVENT
DTSTAMP:20260424T101927Z
UID:e03a3e7d-ab8e-4b80-884c-03dc3484b0b8
DTSTART;VALUE=DATE:20251029
DESCRIPTION:Property ID# 598714\, Locatoin: at 11:30am (unless sold prior) 
 Harcourts Auction Rooms\, 1 Third Avenue\, Tauranga\, Time: 12:00PM
SUMMARY:Auction for 
END:VEVENT
END:VCALENDAR
