BEGIN:VCALENDAR
VERSION:2.0
PRODID:icalendar-ruby
CALSCALE:GREGORIAN
BEGIN:VEVENT
DTSTAMP:20260422T132514Z
UID:cb8af683-e517-4d58-8658-80a2e0f143ed
DTSTART;VALUE=DATE:20251203
DESCRIPTION:Property ID# 599224\, Locatoin: 247 Cameron Road\, Time: 1:00PM
SUMMARY:Auction for 
END:VEVENT
END:VCALENDAR
