BEGIN:VCALENDAR
VERSION:2.0
PRODID:icalendar-ruby
CALSCALE:GREGORIAN
BEGIN:VEVENT
DTSTAMP:20260423T114612Z
UID:df71e229-7100-49b2-98a1-f5adc73e1e10
DTSTART;VALUE=DATE:20251118
DESCRIPTION:Property ID# 599310\, Locatoin: Bayleys Real Estate\, 1092 Fent
 on Street\, Rotorua\, Time: 12:00PM
SUMMARY:Auction for 
END:VEVENT
END:VCALENDAR
