BEGIN:VCALENDAR
VERSION:2.0
PRODID:icalendar-ruby
CALSCALE:GREGORIAN
BEGIN:VEVENT
DTSTAMP:20260419T145728Z
UID:a1bea024-10bf-4863-b66e-8ec6af9adf8e
DTSTART;VALUE=DATE:20251127
DESCRIPTION:Property ID# 599835\, Locatoin: Auction Rooms\, 247 Cameron Roa
 d\, Tauranga. Unless sold prior\, Time: 1:00PM
SUMMARY:Auction for 
END:VEVENT
END:VCALENDAR
