BEGIN:VCALENDAR
VERSION:2.0
PRODID:icalendar-ruby
CALSCALE:GREGORIAN
BEGIN:VEVENT
DTSTAMP:20260420T122107Z
UID:7fe33abd-1c3b-4236-b782-557756172c36
DTSTART;VALUE=DATE:20251126
DESCRIPTION:Property ID# 599854\, Time: 2:00PM
SUMMARY:Auction for 
END:VEVENT
END:VCALENDAR
