BEGIN:VCALENDAR
VERSION:2.0
PRODID:icalendar-ruby
CALSCALE:GREGORIAN
BEGIN:VEVENT
DTSTAMP:20260423T055648Z
UID:ad1f0805-4950-4f7a-8893-cf66d9ca6655
DTSTART;VALUE=DATE:20260225
DESCRIPTION:Property ID# 602671\, Locatoin: Ray White Tauranga Auction Room
 \, 1/525 Cameron Road\, Tauranga\, Time: 1:00PM
SUMMARY:Auction for 
END:VEVENT
END:VCALENDAR
