BEGIN:VCALENDAR
VERSION:2.0
PRODID:icalendar-ruby
CALSCALE:GREGORIAN
BEGIN:VEVENT
DTSTAMP:20260420T100602Z
UID:7f46bdb5-2c7d-4c06-a0fe-c71ab4d15e25
DTSTART;VALUE=DATE:20260225
DESCRIPTION:Property ID# 602873\, Locatoin: Bayleys Auction Rooms\, 247 Cam
 eron Road Tauranga (if not sold prior)\, Time: 1:00PM
SUMMARY:Auction for 1/2 Sixth Avenue
END:VEVENT
END:VCALENDAR
