BEGIN:VCALENDAR
VERSION:2.0
PRODID:icalendar-ruby
CALSCALE:GREGORIAN
BEGIN:VEVENT
DTSTAMP:20260424T203900Z
UID:f14de7b4-13fa-493e-8112-41f2cfeb49e6
DTSTART;VALUE=DATE:20260312
DESCRIPTION:Property ID# 603798\, Time: 12:00PM
SUMMARY:Auction for 5 Dippie Place
END:VEVENT
END:VCALENDAR
