BEGIN:VCALENDAR
VERSION:2.0
PRODID:icalendar-ruby
CALSCALE:GREGORIAN
BEGIN:VEVENT
DTSTAMP:20260421T110904Z
UID:3d6b4a6d-9a18-4ec8-b588-ee0bc623d82f
DTSTART;VALUE=DATE:20260318
DESCRIPTION:Property ID# 604105\, Locatoin: Ray White Greerton Auction Room
 s\, 1334 Cameron Road\, Greerton (unless sold prior)\, Time: 1:00PM
SUMMARY:Auction for 
END:VEVENT
END:VCALENDAR
