BEGIN:VCALENDAR
VERSION:2.0
PRODID:icalendar-ruby
CALSCALE:GREGORIAN
BEGIN:VEVENT
DTSTAMP:20260422T131728Z
UID:cf2aaabe-0f1e-479f-895e-b79b2d86f990
DTSTART;VALUE=DATE:20260325
DESCRIPTION:Property ID# 604412\, Locatoin: 247 Cameron Road\, Tauranga\, T
 ime: 1:00PM
SUMMARY:Auction for 
END:VEVENT
END:VCALENDAR
