BEGIN:VCALENDAR
VERSION:2.0
PRODID:icalendar-ruby
CALSCALE:GREGORIAN
BEGIN:VEVENT
DTSTAMP:20260422T114402Z
UID:2b48701e-0f76-4d3d-8125-fc5ddd77197a
DTSTART;VALUE=DATE:20260401
DESCRIPTION:Property ID# 604947\, Time: 12:00PM
SUMMARY:Auction for 72A Victoria Avenue
END:VEVENT
END:VCALENDAR
