BEGIN:VCALENDAR
VERSION:2.0
PRODID:icalendar-ruby
CALSCALE:GREGORIAN
BEGIN:VEVENT
DTSTAMP:20260421T110619Z
UID:b52ffeb2-5f9c-4965-9fef-44bd5e543b5e
DTSTART;VALUE=DATE:20260416
DESCRIPTION:Property ID# 606009\, Locatoin: Level 1\, 77 Thorndon Quay\, WE
 LLINGTON\, Time: 2:00PM
SUMMARY:Auction for 22/13 Leeds Street
END:VEVENT
END:VCALENDAR
