BEGIN:VCALENDAR
VERSION:2.0
PRODID:icalendar-ruby
CALSCALE:GREGORIAN
BEGIN:VEVENT
DTSTAMP:20260420T111501Z
UID:8bf5d397-ee9a-4d26-a6ff-1afc7aedd58c
DTSTART;VALUE=DATE:20260430
DESCRIPTION:Property ID# 606406\, Locatoin: EVES Auction Rooms\, 247 Camero
 n Road Tauranga\, Time: 12:00PM
SUMMARY:Auction for 14B Levers Road
END:VEVENT
END:VCALENDAR
