BEGIN:VCALENDAR
VERSION:2.0
PRODID:icalendar-ruby
CALSCALE:GREGORIAN
BEGIN:VEVENT
DTSTAMP:20260420T154203Z
UID:1a8d8a22-3841-412d-bb58-eb79f8ee26d0
DTSTART;VALUE=DATE:20260514
DESCRIPTION:Property ID# 606531\, Locatoin: Auction Rooms\, 247 Cameron Roa
 d\, Tauranga. Unless sold prior\, Time: 1:00PM
SUMMARY:Auction for 28B Western Road
END:VEVENT
END:VCALENDAR
