BEGIN:VCALENDAR
VERSION:2.0
PRODID:icalendar-ruby
CALSCALE:GREGORIAN
BEGIN:VEVENT
DTSTAMP:20260423T140047Z
UID:42e42175-5ba8-462b-b410-685196e9f4af
DTSTART;VALUE=DATE:20260514
DESCRIPTION:Property ID# 606570\, Locatoin: Auction Rooms\, 247 Cameron Roa
 d\, Tauranga. Unless sold prior\, Time: 1:00PM
SUMMARY:Auction for 117 Manuwai Drive
END:VEVENT
END:VCALENDAR
