BEGIN:VCALENDAR
VERSION:2.0
PRODID:icalendar-ruby
CALSCALE:GREGORIAN
BEGIN:VEVENT
DTSTAMP:20260424T102121Z
UID:64be7f55-6589-4cfa-aeb6-de60879d321b
DTSTART;VALUE=DATE:20260520
DESCRIPTION:Property ID# 606824\, Locatoin: 247 Cameron Road\, Tauranga\, T
 ime: 1:00PM
SUMMARY:Auction for 28 Balmedie Ridge
END:VEVENT
END:VCALENDAR
