BEGIN:VCALENDAR
VERSION:2.0
PRODID:icalendar-ruby
CALSCALE:GREGORIAN
BEGIN:VEVENT
DTSTAMP:20260425T180605Z
UID:0b7106bc-9911-45dd-b6e4-0021985ae9e4
DTSTART;VALUE=DATE:20260513
DESCRIPTION:Property ID# 607115\, Time: 1:00PM
SUMMARY:Auction for 32F Bunyan Road
END:VEVENT
END:VCALENDAR
