BEGIN:VCALENDAR
VERSION:2.0
PRODID:icalendar-ruby
CALSCALE:GREGORIAN
BEGIN:VEVENT
DTSTAMP:20260420T184226Z
UID:2fd008b2-e9f6-408f-ab92-affb268334c4
DTSTART;TZID=Pacific/Auckland:20260419T120000
DTEND;TZID=Pacific/Auckland:20260419T123000
DESCRIPTION:Property ID# 605422
SUMMARY:Openhome for 8 Blossom Grove
END:VEVENT
END:VCALENDAR
