BEGIN:VCALENDAR
VERSION:2.0
PRODID:icalendar-ruby
CALSCALE:GREGORIAN
BEGIN:VEVENT
DTSTAMP:20260420T154203Z
UID:4ad9fb26-7a21-499d-a6ee-542c246d1a34
DTSTART;TZID=Pacific/Auckland:20260419T140000
DTEND;TZID=Pacific/Auckland:20260419T143000
DESCRIPTION:Property ID# 602521
SUMMARY:Openhome for 53 Cotula Way
END:VEVENT
END:VCALENDAR
