BEGIN:VCALENDAR
VERSION:2.0
PRODID:icalendar-ruby
CALSCALE:GREGORIAN
BEGIN:VEVENT
DTSTAMP:20260419T125310Z
UID:0410ba23-9571-4bc2-b1bc-2b85aec411cc
DTSTART;TZID=Pacific/Auckland:20260418T123000
DTEND;TZID=Pacific/Auckland:20260418T130000
DESCRIPTION:Property ID# 606918
SUMMARY:Openhome for 12 Putaka Place
END:VEVENT
END:VCALENDAR
