BEGIN:VCALENDAR
VERSION:2.0
PRODID:icalendar-ruby
CALSCALE:GREGORIAN
BEGIN:VEVENT
DTSTAMP:20260421T110911Z
UID:78461a1d-5efd-454e-9634-70b9b2fc4e37
DTSTART;TZID=Pacific/Auckland:20260419T120000
DTEND;TZID=Pacific/Auckland:20260419T123000
DESCRIPTION:Property ID# 606749
SUMMARY:Openhome for 10B Whitaker Street
END:VEVENT
END:VCALENDAR
