BEGIN:VCALENDAR
VERSION:2.0
PRODID:icalendar-ruby
CALSCALE:GREGORIAN
BEGIN:VEVENT
DTSTAMP:20260422T084702Z
UID:43868a6c-0d16-43ab-8997-23183195617e
DTSTART;TZID=Pacific/Auckland:20260426T140000
DTEND;TZID=Pacific/Auckland:20260426T150000
DESCRIPTION:Property ID# 602521
SUMMARY:Openhome for 53 Cotula Way
END:VEVENT
END:VCALENDAR
