BEGIN:VCALENDAR
VERSION:2.0
PRODID:icalendar-ruby
CALSCALE:GREGORIAN
BEGIN:VEVENT
DTSTAMP:20260424T184524Z
UID:be140e18-c7cf-461d-8781-44a2ddd7f612
DTSTART;TZID=Pacific/Auckland:20260426T120000
DTEND;TZID=Pacific/Auckland:20260426T123000
DESCRIPTION:Property ID# 606453
SUMMARY:Openhome for 77B Beach Road
END:VEVENT
END:VCALENDAR
