BEGIN:VCALENDAR
VERSION:2.0
PRODID:icalendar-ruby
CALSCALE:GREGORIAN
BEGIN:VEVENT
DTSTAMP:20260423T111510Z
UID:339d5f73-7af6-4c53-aa59-d6888ebee6ac
DTSTART;TZID=Pacific/Auckland:20260426T110000
DTEND;TZID=Pacific/Auckland:20260426T120000
DESCRIPTION:Property ID# 606901
SUMMARY:Openhome for 36 + 36A Koutu Road
END:VEVENT
END:VCALENDAR
