BEGIN:VCALENDAR
VERSION:2.0
PRODID:icalendar-ruby
CALSCALE:GREGORIAN
BEGIN:VEVENT
DTSTAMP:20260422T183325Z
UID:0de1145d-975d-4cfd-a6b0-66c9dcd965e0
DTSTART;TZID=Pacific/Auckland:20260426T121500
DTEND;TZID=Pacific/Auckland:20260426T130000
DESCRIPTION:Property ID# 605465
SUMMARY:Openhome for 18 KO PLACE
END:VEVENT
END:VCALENDAR
